BEGIN:VCALENDAR
VERSION:2.0
PRODID:-//CB Wilson Author - ECPv6.15.17.1//NONSGML v1.0//EN
CALSCALE:GREGORIAN
METHOD:PUBLISH
X-ORIGINAL-URL:https://cbwilsonauthor.com
X-WR-CALDESC:Events for CB Wilson Author
REFRESH-INTERVAL;VALUE=DURATION:PT1H
X-Robots-Tag:noindex
X-PUBLISHED-TTL:PT1H
BEGIN:VTIMEZONE
TZID:America/Phoenix
BEGIN:STANDARD
TZOFFSETFROM:-0700
TZOFFSETTO:-0700
TZNAME:MST
DTSTART:20240101T000000
END:STANDARD
END:VTIMEZONE
BEGIN:VTIMEZONE
TZID:UTC
BEGIN:STANDARD
TZOFFSETFROM:+0000
TZOFFSETTO:+0000
TZNAME:UTC
DTSTART:20240101T000000
END:STANDARD
END:VTIMEZONE
BEGIN:VEVENT
DTSTART;TZID=America/Phoenix:20251024T160000
DTEND;TZID=America/Phoenix:20251102T180000
DTSTAMP:20260423T214613
CREATED:20251015T001831Z
LAST-MODIFIED:20251015T001844Z
UID:2015-1761321600-1762106400@cbwilsonauthor.com
SUMMARY:Cozy Mystery Party
DESCRIPTION:Catch me at the Cozy Mystery Party on Facebook! \nClick here to join the group so you’re ready for party time on 10/24! \n  \n 
URL:https://cbwilsonauthor.com/event/cozy-mystery-party/
LOCATION:AZ
CATEGORIES:Appearances / Signings
END:VEVENT
BEGIN:VEVENT
DTSTART;TZID=UTC:20251101T090000
DTEND;TZID=UTC:20251101T150000
DTSTAMP:20260423T214613
CREATED:20251015T002537Z
LAST-MODIFIED:20251015T002537Z
UID:2019-1761987600-1762009200@cbwilsonauthor.com
SUMMARY:Appearance at Granite Reef Senior Center
DESCRIPTION:Come chat at Granite Reef Senior Center in Scottsdale from 9-3PM
URL:https://cbwilsonauthor.com/event/appearance-at-granite-reef-senior-center/
LOCATION:Granite Reef Senior Center\, 1700 North Granite Reef Road\, Scottsdale\, AZ\, 85257\, United States
CATEGORIES:Appearances / Signings
END:VEVENT
BEGIN:VEVENT
DTSTART;TZID=America/Phoenix:20251108T100000
DTEND;TZID=America/Phoenix:20251108T140000
DTSTAMP:20260423T214613
CREATED:20251015T003002Z
LAST-MODIFIED:20251015T003002Z
UID:2022-1762596000-1762610400@cbwilsonauthor.com
SUMMARY:Meet Glimmer at Barnes & Noble!
DESCRIPTION:Come meet Glimmer\, the Diamond Dog\, at Barnes & Noble\, Scottsdale Fiesta Shopping Center
URL:https://cbwilsonauthor.com/event/meet-glimmer-at-barnes-noble/
LOCATION:Barnes and Noble\,Scottsdale Fiesta Shopping Center\, 10500 N. 90th Street\, Scottsdale\, AZ\, 85258\, United States
CATEGORIES:Appearances / Signings
END:VEVENT
BEGIN:VEVENT
DTSTART;TZID=America/Phoenix:20251115T100000
DTEND;TZID=America/Phoenix:20251115T140000
DTSTAMP:20260423T214613
CREATED:20251015T003341Z
LAST-MODIFIED:20251015T003341Z
UID:2025-1763200800-1763215200@cbwilsonauthor.com
SUMMARY:Book Signing with Glimmer!
DESCRIPTION:Glimmer\, the Diamond Dog\, will be signing books at the Poison Pen Book Store in Scottsdale!
URL:https://cbwilsonauthor.com/event/book-signing-with-glimmer/
LOCATION:The Poisoned Pen Bookstore\, Scottsdale\, 4014 N Goldwater Blvd #101\, Scottsdale\, AZ\, 85251\, United States
CATEGORIES:Appearances / Signings
END:VEVENT
BEGIN:VEVENT
DTSTART;TZID=UTC:20251120T110000
DTEND;TZID=UTC:20251120T140000
DTSTAMP:20260423T214613
CREATED:20251015T003810Z
LAST-MODIFIED:20251015T003810Z
UID:2029-1763636400-1763647200@cbwilsonauthor.com
SUMMARY:Book Signing with JC Eaton\, Sponsored by Barnes & Noble
DESCRIPTION:Barnes & Noble-sponsored book signing with JC Eaton at Sun City West Library in the social hall\, 11  am-1 pm
URL:https://cbwilsonauthor.com/event/book-signing-with-jc-eaton-sponsored-by-barnes-noble/
LOCATION:Sun City West Library\, 13801 W. Meeker Blvd.\, Sun City West\, AZ\, 85375\, United States
CATEGORIES:Appearances / Signings
END:VEVENT
END:VCALENDAR