BEGIN:VCALENDAR
VERSION:2.0
PRODID:-//CB Wilson Author - ECPv6.15.17.1//NONSGML v1.0//EN
CALSCALE:GREGORIAN
METHOD:PUBLISH
X-WR-CALNAME:CB Wilson Author
X-ORIGINAL-URL:https://cbwilsonauthor.com
X-WR-CALDESC:Events for CB Wilson Author
REFRESH-INTERVAL;VALUE=DURATION:PT1H
X-Robots-Tag:noindex
X-PUBLISHED-TTL:PT1H
BEGIN:VTIMEZONE
TZID:UTC
BEGIN:STANDARD
TZOFFSETFROM:+0000
TZOFFSETTO:+0000
TZNAME:UTC
DTSTART:20250101T000000
END:STANDARD
END:VTIMEZONE
BEGIN:VEVENT
DTSTART;TZID=UTC:20260411T100000
DTEND;TZID=UTC:20260411T150000
DTSTAMP:20260423T200826
CREATED:20260330T232536Z
LAST-MODIFIED:20260330T232536Z
UID:2069-1775901600-1775919600@cbwilsonauthor.com
SUMMARY:Signing at Desert Foothills Library
DESCRIPTION:
URL:https://cbwilsonauthor.com/event/signing-at-desert-foothills-library/
LOCATION:Desert Foothills Library\, 38443 N Schoolhouse Rd\, Cave Creek\, AZ\, 85331\, United States
CATEGORIES:Appearances / Signings,Book Signings
END:VEVENT
END:VCALENDAR