BEGIN:VCALENDAR
VERSION:2.0
PRODID:-//CB Wilson Author - ECPv6.15.17.1//NONSGML v1.0//EN
CALSCALE:GREGORIAN
METHOD:PUBLISH
X-WR-CALNAME:CB Wilson Author
X-ORIGINAL-URL:https://cbwilsonauthor.com
X-WR-CALDESC:Events for CB Wilson Author
REFRESH-INTERVAL;VALUE=DURATION:PT1H
X-Robots-Tag:noindex
X-PUBLISHED-TTL:PT1H
BEGIN:VTIMEZONE
TZID:UTC
BEGIN:STANDARD
TZOFFSETFROM:+0000
TZOFFSETTO:+0000
TZNAME:UTC
DTSTART:20240101T000000
END:STANDARD
END:VTIMEZONE
BEGIN:VTIMEZONE
TZID:America/Phoenix
BEGIN:STANDARD
TZOFFSETFROM:-0700
TZOFFSETTO:-0700
TZNAME:MST
DTSTART:20240101T000000
END:STANDARD
END:VTIMEZONE
BEGIN:VEVENT
DTSTART;TZID=UTC:20250222T110000
DTEND;TZID=UTC:20250222T140000
DTSTAMP:20260424T080109
CREATED:20250128T145826Z
LAST-MODIFIED:20250213T230418Z
UID:1943-1740222000-1740232800@cbwilsonauthor.com
SUMMARY:Sails & Tails Book Launch & San Diego Humane Society Fundraiser
DESCRIPTION:Friends in the San Diego area (or who will be in the area in February)\, be sure to come out and see me at the Sails and Tails Book Launch and San Diego Humane Society Fundraiser!\nLocation: Southwestern Yacht Club\, 2702 Qualtrough St.\, San Diego\, CA 92106\nDate: Saturday\, Feb. 22\, 2025\nTime: 11am -2 pm\n\nEvents:\nNautiest Dog Parade (a nautical theme)\nPhotos with Fido\nBarkery Treat Tasting (barking good time)\nBook Signing (Meet the author)\nRaffle-featuring SD dog-friendly activities\nBring used towels to donate to the Humane Society
URL:https://cbwilsonauthor.com/event/sails-tails-book-launch-san-diego-humane-society-fundraiser/
LOCATION:Southwestern Yacht Club\, 2702 Qualtrough St\, San Diego\, CA\, 92106\, United States
CATEGORIES:Appearances / Signings
END:VEVENT
BEGIN:VEVENT
DTSTART;TZID=America/Phoenix:20250125T100000
DTEND;TZID=America/Phoenix:20250125T150000
DTSTAMP:20260424T080109
CREATED:20241231T223134Z
LAST-MODIFIED:20250127T060106Z
UID:1900-1737799200-1737817200@cbwilsonauthor.com
SUMMARY:Doggie Street Festival
DESCRIPTION:Mark your calendars—on January 25\, come join me at the 9th Annual Doggie Street Festival in Phoenix!  \nBring your friendly dog or find a new BFF and enjoy some yummy eats\, music\, check out the auction\, and get some pet tips. And of course\, make sure to come see me! \nThe details: \n9th Annual Doggie Street Festival \nSATURDAY JANUARY 25\, 2025\n10AM to 3PM\nSteele Indian School Park\nPhoenix \nSee you on the 25th!
URL:https://cbwilsonauthor.com/event/doggie-street-festival/
LOCATION:AZ
CATEGORIES:Appearances / Signings
ATTACH;FMTTYPE=image/png:https://cbwilsonauthor.com/wp-content/uploads/2024/12/doggie-festival.png
END:VEVENT
BEGIN:VEVENT
DTSTART;TZID=America/Phoenix:20250107T140000
DTEND;TZID=America/Phoenix:20250107T150000
DTSTAMP:20260424T080109
CREATED:20250107T232307Z
LAST-MODIFIED:20250107T232307Z
UID:1907-1736258400-1736262000@cbwilsonauthor.com
SUMMARY:Author Talk at Sun City Library
DESCRIPTION:Come see me do an author talk at the library in Sun City! We will talk all things Barkview and dogs\, and there will be prizes. \nThe details: \nFriday\, February 7\, 2025\n2-3 pm \nThe R.H. Johnson Library\n13801 W. Meeker Blvd.\nSun City West\, AZ 85375
URL:https://cbwilsonauthor.com/event/author-talk-at-sun-city-library/
LOCATION:AZ
END:VEVENT
END:VCALENDAR